BEGIN:VCALENDAR
VERSION:2.0
PRODID:icalendar-ruby
CALSCALE:GREGORIAN
BEGIN:VEVENT
DTSTAMP:20260425T162130Z
UID:1f3b0bc6-bfd2-427a-a887-692c1907b8e4
DTSTART;VALUE=DATE:20240201
DTEND;VALUE=DATE:20241218
DESCRIPTION:Friday 29 March\, Monday 01 April\, Tuesday 02 April: Easter\n\
 nMonday 03 June: Kings Birthday\n\nFriday 28 June: Matariki\n\nMonday 28 O
 ctober: Labour Day\n\nTeacher Only Days - Friday 31 May and Friday 25 Octo
 ber
SUMMARY:Public Holidays and Teacher Only Days During Term Time 2024
END:VEVENT
END:VCALENDAR
