BEGIN:VCALENDAR
VERSION:2.0
PRODID:icalendar-ruby
CALSCALE:GREGORIAN
BEGIN:VEVENT
DTSTAMP:20260425T162130Z
UID:c8641cc6-265b-4610-8cab-0148f565a08e
DTSTART;VALUE=DATE:20240201
DTEND;VALUE=DATE:20241218
DESCRIPTION:Term 1:  Thursday 1 February to Friday 12 April\n\nTerm 2:  Mon
 day 29 April to Friday 5 July\n\nTerm 3:  Monday 22 July to Friday 27 Sept
 ember\n\nTerm 4:  Monday 14 October to Tuesday 17 December
SUMMARY:Term Dates 2024
END:VEVENT
END:VCALENDAR
