BEGIN:VCALENDAR
VERSION:2.0
PRODID:icalendar-ruby
CALSCALE:GREGORIAN
BEGIN:VEVENT
DTSTAMP:20260425T162131Z
UID:474405bb-90f0-43f6-9427-a3c1278af398
DTSTART;VALUE=DATE:20251008
DTEND;VALUE=DATE:20251009
DESCRIPTION:
LOCATION:
SUMMARY:Year 6 2026 Camp Evening 6pm
URL:
END:VEVENT
END:VCALENDAR
